BEGIN:VCALENDAR
VERSION:2.0
PRODID:-//ChamberMaster//Event Calendar 2.0//EN
METHOD:PUBLISH
X-PUBLISHED-TTL:P3D
REFRESH-INTERVAL:P3D
CALSCALE:GREGORIAN
BEGIN:VEVENT
DTSTART:20151001T230000Z
DTEND:20151002T020000Z
X-MICROSOFT-CDO-ALLDAYEVENT:FALSE
SUMMARY:Generations Networking Mixer
DESCRIPTION:WBOK 1230AM is hosting the Generations Networking Mixer. This is an opportunity for professionals of all ages to come together to meet\, greet and create a connection to work together in the future. Hosted at a different venue each month\, the Generations Networking mixer aspires to create a community of informed and empowered individuals that are focused on developing positive change in our community.
X-ALT-DESC;FMTTYPE=text/html:<span style="color:rgb(20\, 24\, 35)\; font-family:helvetica\,arial\,sans-serif\; font-size:14px">WBOK 1230AM is hosting the Generations Networking Mixer. This is an opportunity for professionals of all ages to come together to meet\, greet and create a connection to work together in the future. Hosted at a different venue each month\, the Generations Networking mixer aspires to create a community of informed and empowered individuals that are focused on developing positive change in our community.</span>
LOCATION:Le Musee de fpc 2336 Esplanade Ave. New Orleans\, La. 70119
UID:e.2159.12
SEQUENCE:3
DTSTAMP:20260421T110458Z
URL:https://members.nolablkchamber.org/events/details/generations-networking-mixer-10-01-2015-12
END:VEVENT

END:VCALENDAR
