BEGIN:VCALENDAR
VERSION:2.0
PRODID:-//ChamberMaster//Event Calendar 2.0//EN
METHOD:PUBLISH
X-PUBLISHED-TTL:P3D
REFRESH-INTERVAL:P3D
CALSCALE:GREGORIAN
BEGIN:VEVENT
DTSTART:20151119T220000Z
DTEND:20151120T010000Z
X-MICROSOFT-CDO-ALLDAYEVENT:FALSE
SUMMARY:Small Business Saturday Kickoff Party
DESCRIPTION:Small Business Saturday is coming up! Join us at Z le on Thursday\, November 19th to get everything you need to make the day a success: bags\, buttons\, stickers\, dog bandanas and more. Network with your fellow local business owners and gather ideas for Small Business Saturday events and promotions.
X-ALT-DESC;FMTTYPE=text/html:Small Business Saturday is coming up! Join us at Z&egrave\;le on Thursday\, November 19th to get everything you need to make the day a success: bags\, buttons\, stickers\, dog bandanas and more. Network with your fellow local business owners and gather ideas for Small Business Saturday events and promotions.
LOCATION:Z le\, 2841 Magazine St
UID:e.2159.15
SEQUENCE:3
DTSTAMP:20260421T082235Z
URL:https://members.nolablkchamber.org/events/details/small-business-saturday-kickoff-party-11-19-2015-15
END:VEVENT

END:VCALENDAR
